BEGIN:VCALENDAR
X-WR-TIMEZONE:Europe/Berlin
X-WR-CALNAME:rbb-Kalender
VERSION:2.0
METHOD:PUBLISH
CALSCALE:GREGORIAN
PRODID:rbb-CMS DAY
BEGIN:VEVENT
CLASS:PUBLIC
URL:http://www.rbb-online.de/content/rbb/rbb/wissenszeit/faecher/geschichte/sendungen/spuren_der_ns_zeit.html
DTEND:20140128T073000
DTSTART:20140128T073000
UID:/content/rbb/rbb/wissenszeit/faecher/geschichte/sendungen/spuren_der_ns_zeit
DTSTAMP:20140405T031440
DESCRIPTION:Als die Soldaten der Alliierten 1945 in Deutschland einmarschierten, waren sie bereits kampferprobt, sie hatten Freunde sterben sehen, unzählige Gegner selbst getötet. Doch was sie dann zu sehen bekamen, überstieg alles Fassbare. Niemand hatte sie auf die Bilder vorbereitet, die sie erwarteten, als sie die Todeslager betraten: Auschwitz, Bergen-Belsen, Buchenwald, Belzec, Treblinka, Dachau...\n
SUMMARY:Spuren der NS-Zeit. Die Befreiung der Todeslager - Alliierte Soldaten erinnern sich
END:VEVENT
END:VCALENDAR
