BEGIN:VCALENDAR
X-WR-TIMEZONE:Europe/Berlin
X-WR-CALNAME:rbb-Kalender
VERSION:2.0
METHOD:PUBLISH
CALSCALE:GREGORIAN
PRODID:rbb-CMS DAY
BEGIN:VEVENT
CLASS:PUBLIC
URL:http://www.rbb-online.de/content/rbb/rbb/wissenszeit/faecher/kunst/sendungen/giganten-der-gotik.html
DTEND:20140213T073000
DTSTART:20140213T073000
UID:/content/rbb/rbb/wissenszeit/faecher/kunst/sendungen/giganten-der-gotik
DTSTAMP:20140405T030515
DESCRIPTION:Plötzlich war sie da – wie aus dem Nichts: Die Gotik. Ein Baustil, der wie eine Revolution das Europa des 12. Jahrhunderts erfasst. Zuerst in Frankreich entstehen Kirchen, die alle bisherigen Maßstäbe sprengen. Sie sind in ihrer Zeit die größten Gebäude überhaupt.\n
SUMMARY:Giganten der Gotik. Das Geheimnis der Kathedralen
END:VEVENT
END:VCALENDAR
