BEGIN:VCALENDAR
X-WR-TIMEZONE:Europe/Berlin
X-WR-CALNAME:rbb-Kalender
VERSION:2.0
METHOD:PUBLISH
CALSCALE:GREGORIAN
PRODID:rbb-CMS DAY
BEGIN:VEVENT
CLASS:PUBLIC
URL:http://www.rbb-online.de/content/rbb/rbb/wissenszeit/faecher/kunst/sendungen/nie_wieder_keine_ahnung4.html
DTEND:20140212T073000
DTSTART:20140212T073000
UID:/content/rbb/rbb/wissenszeit/faecher/kunst/sendungen/nie_wieder_keine_ahnung4
DTSTAMP:20140405T025136
DESCRIPTION:Für jedes Bauwerk sind dreierlei Menschen wichtig: Architekt, Bauherr und Nutzer. Zu den bedeutendsten Architekten gehören Balthasar Neumann, Frank Lloyd Wright und Mies van der Rohe. \n
SUMMARY:Nie wieder keine Ahnung! Architektur. Die drei wichtigsten Menschen im System "Architektur" (3)
END:VEVENT
END:VCALENDAR
