BEGIN:VCALENDAR
X-WR-TIMEZONE:Europe/Berlin
X-WR-CALNAME:rbb-Kalender
VERSION:2.0
METHOD:PUBLISH
CALSCALE:GREGORIAN
PRODID:rbb-CMS DAY
BEGIN:VEVENT
CLASS:PUBLIC
URL:http://www.rbb-online.de/content/rbb/rbb/wissenszeit/faecher/kunst/sendungen/wir_bauen_eine_neue.html
DTEND:20140214T073000
DTSTART:20140214T073000
UID:/content/rbb/rbb/wissenszeit/faecher/kunst/sendungen/wir_bauen_eine_neue
DTSTAMP:20140405T025059
DESCRIPTION:Der Lernerfolg an Schulen hängt nicht unwesentlich davon ab, wie Gebäude und Räumlichkeiten gestaltet sind. Wie müssen Schulen gebaut sein, damit sich Lehrer und Schüler wohlfühlen? Welche pädagogischen Konzepte sollten sich wie in Schularchitektur umsetzen? Und wie sieht die Traumschule aus?\n
SUMMARY:Wir bauen eine neue Schule. Schule und Architektur in Berlin und Brandenburg
END:VEVENT
END:VCALENDAR
