BEGIN:VCALENDAR
X-WR-TIMEZONE:Europe/Berlin
X-WR-CALNAME:rbb-Kalender
VERSION:2.0
METHOD:PUBLISH
CALSCALE:GREGORIAN
PRODID:rbb-CMS DAY
BEGIN:VEVENT
CLASS:PUBLIC
URL:http://www.rbb-online.de/content/rbb/rbb/wissenszeit/faecher/musik/sendungen/bali.html
DTEND:20140227T073000
DTSTART:20140227T073000
UID:/content/rbb/rbb/wissenszeit/faecher/musik/sendungen/bali
DTSTAMP:20140405T030908
DESCRIPTION:Als 1963 der heilige Vulkan Agung ausbrach, hofften die Balinesen auf die Ankunft der Götter, stattdessen kamen Tod und Verwüstung. Doch gerade die Lavaerde und das tropische Klima machen die indonesische Insel Bali zu einem der fruchtbarsten Flecken der Erde.\n
SUMMARY:Bali
END:VEVENT
END:VCALENDAR
