BEGIN:VCALENDAR
X-WR-TIMEZONE:Europe/Berlin
X-WR-CALNAME:rbb-Kalender
VERSION:2.0
METHOD:PUBLISH
CALSCALE:GREGORIAN
PRODID:rbb-CMS DAY
BEGIN:VEVENT
CLASS:PUBLIC
URL:http://www.rbb-online.de/content/rbb/rbb/wissenszeit/faecher/musik/sendungen/humor_in_der_musik.html
DTEND:20140224T073000
DTSTART:20140224T073000
UID:/content/rbb/rbb/wissenszeit/faecher/musik/sendungen/humor_in_der_musik
DTSTAMP:20140405T025925
DESCRIPTION:Vier ältere Herren im Frack, die mit Schläuchen und Trichtern den Triumphmarsch aus Aida anstimmen. Karl Valentins hintersinnige Texte als Balalaikaballade. Rocker säuseln Minnelieder zu beinharten Gitarrenriffs.\n\nDas passt doch hinten und vorne nicht zusammen. Stimmt! Und genau deshalb ist es komisch. Saukomisch sogar.\n
SUMMARY:Humor in der Musik
END:VEVENT
END:VCALENDAR
