BEGIN:VCALENDAR
X-WR-TIMEZONE:Europe/Berlin
X-WR-CALNAME:rbb-Kalender
VERSION:2.0
METHOD:PUBLISH
CALSCALE:GREGORIAN
PRODID:rbb-CMS DAY
BEGIN:VEVENT
CLASS:PUBLIC
URL:http://www.rbb-online.de/content/rbb/rbb/wissenszeit/faecher/musik/sendungen/star_als_beruf_.html
DTEND:20140224T074500
DTSTART:20140224T074500
UID:/content/rbb/rbb/wissenszeit/faecher/musik/sendungen/star_als_beruf_
DTSTAMP:20140405T031009
DESCRIPTION:Welcher Jugendliche, der zur E-Gitarre oder zum Gesangs-Mikro greift, hat nicht schon mal insgeheim davon geträumt, ein erfolgreicher Rock-Star zu sein? Doch wie sieht die Realität im Musik-Geschäft aus, im Zeitalter von Elektronik, Synthesizern, sinkenden CD-Umsätzen, "downloads" und "MySpace"?\n
SUMMARY:Star als Beruf? - Musiker unserer Zeit
END:VEVENT
END:VCALENDAR
