BEGIN:VCALENDAR
X-WR-TIMEZONE:Europe/Berlin
X-WR-CALNAME:rbb-Kalender
VERSION:2.0
METHOD:PUBLISH
CALSCALE:GREGORIAN
PRODID:rbb-CMS DAY
BEGIN:VEVENT
CLASS:PUBLIC
URL:http://www.rbb-online.de/content/rbb/rbb/wissenszeit/faecher/philosophie/sendungen/grenzueberschreitung.html
DTEND:20140408T074500
DTSTART:20140408T074500
UID:/content/rbb/rbb/wissenszeit/faecher/philosophie/sendungen/grenzueberschreitung
DTSTAMP:20140405T031446
DESCRIPTION:Sophie wird langsam nervös, da es nur noch ein paar Tage bis zu ihrer Prüfung sind. Deswegen trifft sie sich noch einmal mit ihrem ehemaligen Lehrer und lässt sich von ihm die transzendentale Deduktion erklären.\n
SUMMARY:Grenzüberschreitung
END:VEVENT
END:VCALENDAR
