BEGIN:VCALENDAR
X-WR-TIMEZONE:Europe/Berlin
X-WR-CALNAME:rbb-Kalender
VERSION:2.0
METHOD:PUBLISH
CALSCALE:GREGORIAN
PRODID:rbb-CMS DAY
BEGIN:VEVENT
CLASS:PUBLIC
URL:http://www.rbb-online.de/content/rbb/rbb/wissenszeit/faecher/philosophie/sendungen/kant__sophie_und_der.html
DTEND:20140409T074500
DTSTART:20140409T074500
UID:/content/rbb/rbb/wissenszeit/faecher/philosophie/sendungen/kant__sophie_und_der
DTSTAMP:20140405T025547
DESCRIPTION:Sophie muss ein Referat für ihr Seminar über den kategorischen Imperativ vorbereiten. Als sie sich in der Bibliothek gerade in ihre Lektüre vertiefen will, tritt Kant persönlich zwischen den Bücherregalen hervor - und stellt sich bereitwillig ihren Fragen zur Moralphilosophie und Ethik, dem Herzstück seiner Philosophie.\n
SUMMARY:Ethik und Pflicht
END:VEVENT
END:VCALENDAR
