BEGIN:VCALENDAR
X-WR-TIMEZONE:Europe/Berlin
X-WR-CALNAME:rbb-Kalender
VERSION:2.0
METHOD:PUBLISH
CALSCALE:GREGORIAN
PRODID:rbb-CMS DAY
BEGIN:VEVENT
CLASS:PUBLIC
URL:http://www.rbb-online.de/content/rbb/rbb/wissenszeit/faecher/philosophie/sendungen/kant__sophie_und_der2.html
DTEND:20140411T074500
DTSTART:20140411T074500
UID:/content/rbb/rbb/wissenszeit/faecher/philosophie/sendungen/kant__sophie_und_der2
DTSTAMP:20140405T025242
DESCRIPTION:Sophie konfrontiert Kant mit ihrer Kritik am kategorischen Imperativ: Der sei zu rigoros, unerbittlich und erbarmungslos – kurz gesagt, „ohne Herz".\n
SUMMARY:Freiheit und Sittlichkeit
END:VEVENT
END:VCALENDAR
