BEGIN:VCALENDAR
X-WR-TIMEZONE:Europe/Berlin
X-WR-CALNAME:rbb-Kalender
VERSION:2.0
METHOD:PUBLISH
CALSCALE:GREGORIAN
PRODID:rbb-CMS DAY
BEGIN:VEVENT
CLASS:PUBLIC
URL:http://www.rbb-online.de/content/rbb/rbb/wissenszeit/faecher/philosophie/sendungen/kant_fuer_anfaenger.html
DTEND:20140407T073000
DTSTART:20140407T073000
UID:/content/rbb/rbb/wissenszeit/faecher/philosophie/sendungen/kant_fuer_anfaenger
DTSTAMP:20140405T031237
DESCRIPTION:Um sich auf die Prüfung für ein Stipendium der Kantstiftung vorzubereiten, trifft Sophie sich mit ihrem ehemaligen Lehrer. Der gibt ihr den Ratschlag, sich in der Bibliothek in Kants Bücher zu vertiefen.\n
SUMMARY:Metaphysik
END:VEVENT
END:VCALENDAR
