BEGIN:VCALENDAR
X-WR-TIMEZONE:Europe/Berlin
X-WR-CALNAME:rbb-Kalender
VERSION:2.0
METHOD:PUBLISH
CALSCALE:GREGORIAN
PRODID:rbb-CMS DAY
BEGIN:VEVENT
CLASS:PUBLIC
URL:http://www.rbb-online.de/content/rbb/rbb/wissenszeit/faecher/philosophie/sendungen/verstand_und_sinne.html
DTEND:20140408T073000
DTSTART:20140408T073000
UID:/content/rbb/rbb/wissenszeit/faecher/philosophie/sendungen/verstand_und_sinne
DTSTAMP:20140405T030508
DESCRIPTION:Eva und Sophie hängen Suchplakate für den entlaufenen Kater Schröder auf. Sophie bleibt deswegen lieber zu Hause und lernt. Als sie sich gerade in die „Kritik der reinen Vernunft" vertieft hat, taucht Kant wieder auf.\n
SUMMARY:Verstand und Sinne
END:VEVENT
END:VCALENDAR
