BEGIN:VCALENDAR
X-WR-TIMEZONE:Europe/Berlin
X-WR-CALNAME:rbb-Kalender
VERSION:2.0
METHOD:PUBLISH
CALSCALE:GREGORIAN
PRODID:rbb-CMS DAY
BEGIN:VEVENT
CLASS:PUBLIC
URL:http://www.rbb-online.de/content/rbb/rbb/wissenszeit/faecher/philosophie/sendungen/zielpunkt_vernunft.html
DTEND:20140409T073000
DTSTART:20140409T073000
UID:/content/rbb/rbb/wissenszeit/faecher/philosophie/sendungen/zielpunkt_vernunft
DTSTAMP:20140405T025214
DESCRIPTION:Der Tag der Prüfung. Sophie trifft sich kurz vorher noch mit Sebastian an der Uni. Von ihm bekommt sie den Vorschlag, sich vorzustellen, dass Kant mit in der Prüfung sitzt und Sophie alles vorsagt.\n
SUMMARY:Zielpunkt Vernunft
END:VEVENT
END:VCALENDAR
