BEGIN:VCALENDAR
X-WR-TIMEZONE:Europe/Berlin
X-WR-CALNAME:rbb-Kalender
VERSION:2.0
METHOD:PUBLISH
CALSCALE:GREGORIAN
PRODID:rbb-CMS DAY
BEGIN:VEVENT
CLASS:PUBLIC
URL:http://www.rbb-online.de/content/rbb/rbb/wissenszeit/faecher/politik/sendungen/deutschland_politisch.html
DTEND:20140303T074500
DTSTART:20140303T074500
UID:/content/rbb/rbb/wissenszeit/faecher/politik/sendungen/deutschland_politisch
DTSTAMP:20140405T031329
DESCRIPTION:Was müssen Schülerinnen und Schüler wissen, um politische Vorgänge in Deutschland zu verstehen? Die Klasse 7d der Hauptschule München-Moosach geht auf Spurensuche und erarbeitet sich grundlegende Kenntnisse etwa über die bundesstaatliche Ordnung.\n\n\n
SUMMARY:Deutschland politisch
END:VEVENT
END:VCALENDAR
