BEGIN:VCALENDAR
X-WR-TIMEZONE:Europe/Berlin
X-WR-CALNAME:rbb-Kalender
VERSION:2.0
METHOD:PUBLISH
CALSCALE:GREGORIAN
PRODID:rbb-CMS DAY
BEGIN:VEVENT
CLASS:PUBLIC
URL:http://www.rbb-online.de/content/rbb/rbb/wissenszeit/faecher/sachunterricht/beitrag/achtung--experiment.html
DTEND:20140331T073000
DTSTART:20140331T073000
UID:/content/rbb/rbb/wissenszeit/faecher/sachunterricht/beitrag/achtung--experiment
DTSTAMP:20140405T031028
DESCRIPTION:Kann man mit einem Teppich fliegen? Fließt Wasser den Berg hinauf? Wie schwer ist die Luft im Klassenzimmer? Es gibt nur einen Weg das herauszufinden: Ausprobieren! „Achtung! Experiment“ macht das im ganz großen Stil mit spannenden und überraschenden Versuchsanordnungen.\n\n\n\n\n
SUMMARY:Achtung! Experiment
END:VEVENT
END:VCALENDAR
