BEGIN:VCALENDAR
X-WR-TIMEZONE:Europe/Berlin
X-WR-CALNAME:rbb-Kalender
VERSION:2.0
METHOD:PUBLISH
CALSCALE:GREGORIAN
PRODID:rbb-CMS DAY
BEGIN:VEVENT
CLASS:PUBLIC
URL:http://www.rbb-online.de/content/rbb/rbb/wissenszeit/faecher/sachunterricht/sendungen/am-ball-bleiben-.html
DTEND:20140401T075000
DTSTART:20140401T075000
UID:/content/rbb/rbb/wissenszeit/faecher/sachunterricht/sendungen/am-ball-bleiben-
DTSTAMP:20140405T025908
DESCRIPTION:Wer einen Ball in die Luft wirft, möchte ihn wiederhaben. Kein Problem – senkrecht in die Höhe geworfen, kehrt der Ball brav zum Werfer zurück. Das gleiche gilt, wenn der Werfer sich beim Werfen vorwärts bewegt. Selbst in einem rasenden Zug – senkrecht geworfen, fällt der Ball immer wieder in die Hand des Werfers zurück. Funktioniert das wirklich immer und überall?\n\n\n
SUMMARY:Am Ball bleiben 
END:VEVENT
END:VCALENDAR
