BEGIN:VCALENDAR
X-WR-TIMEZONE:Europe/Berlin
X-WR-CALNAME:rbb-Kalender
VERSION:2.0
METHOD:PUBLISH
CALSCALE:GREGORIAN
PRODID:rbb-CMS DAY
BEGIN:VEVENT
CLASS:PUBLIC
URL:http://www.rbb-online.de/content/rbb/rbb/wissenszeit/faecher/sachunterricht/sendungen/das-geheimnis-der-parabolantenne.html
DTEND:20140404T074000
DTSTART:20140404T074000
UID:/content/rbb/rbb/wissenszeit/faecher/sachunterricht/sendungen/das-geheimnis-der-parabolantenne
DTSTAMP:20140405T030742
DESCRIPTION:Alle Parabolantennen haben die gleiche Form – die einer Parabel. Sie können Radiowellen aus den Tiefen des Alls empfangen, indem sie die schwachen Signale bündeln. Aber wie funktioniert das genau?\n
SUMMARY:Das Geheimnis der Parabolantenne
END:VEVENT
END:VCALENDAR
