BEGIN:VCALENDAR
X-WR-TIMEZONE:Europe/Berlin
X-WR-CALNAME:rbb-Kalender
VERSION:2.0
METHOD:PUBLISH
CALSCALE:GREGORIAN
PRODID:rbb-CMS DAY
BEGIN:VEVENT
CLASS:PUBLIC
URL:http://www.rbb-online.de/content/rbb/rbb/wissenszeit/faecher/sachunterricht/sendungen/den-ball-im-blick.html
DTEND:20140402T074000
DTSTART:20140402T074000
UID:/content/rbb/rbb/wissenszeit/faecher/sachunterricht/sendungen/den-ball-im-blick
DTSTAMP:20140405T025453
DESCRIPTION:Ob sich ein Objekt vorwärts, seitwärts oder rückwärts bewegt oder gar in der Luft still steht, ist manchmal gar nicht einfach zu entscheiden. Es ist eine Frage der Perspektive und der Bezugspunkte.\n\n\n
SUMMARY:Den Ball im Blick
END:VEVENT
END:VCALENDAR
