BEGIN:VCALENDAR
X-WR-TIMEZONE:Europe/Berlin
X-WR-CALNAME:rbb-Kalender
VERSION:2.0
METHOD:PUBLISH
CALSCALE:GREGORIAN
PRODID:rbb-CMS DAY
BEGIN:VEVENT
CLASS:PUBLIC
URL:http://www.rbb-online.de/content/rbb/rbb/wissenszeit/faecher/sachunterricht/sendungen/der-richtige-dreh.html
DTEND:20140401T074000
DTSTART:20140401T074000
UID:/content/rbb/rbb/wissenszeit/faecher/sachunterricht/sendungen/der-richtige-dreh
DTSTAMP:20140405T031038
DESCRIPTION:Zirkusartistin Michiru begeistert mit ihren atemberaubenden Lufttänzen das Publikum. Das Tempo ihrer Drehungen bestimmt sie mit ihrer Körperhaltung. Es scheint ganz einfach: Beine auseinander – langsames Kreiseln, Beine zusammen – schnelle Wirbel. Die Drehgeschwindigkeit hängt also davon ab, wie sie ihr Gewicht verlagert.\n
SUMMARY:Der richtige Dreh
END:VEVENT
END:VCALENDAR
