BEGIN:VCALENDAR
X-WR-TIMEZONE:Europe/Berlin
X-WR-CALNAME:rbb-Kalender
VERSION:2.0
METHOD:PUBLISH
CALSCALE:GREGORIAN
PRODID:rbb-CMS DAY
BEGIN:VEVENT
CLASS:PUBLIC
URL:http://www.rbb-online.de/content/rbb/rbb/wissenszeit/faecher/sachunterricht/sendungen/der-schwebende-wal.html
DTEND:20140331T075000
DTSTART:20140331T075000
UID:/content/rbb/rbb/wissenszeit/faecher/sachunterricht/sendungen/der-schwebende-wal
DTSTAMP:20140405T025539
DESCRIPTION:Das Geheimnis des Ballonflugs ist heiße Luft. Die Fahrer erhitzen die Luft mit einem Brenner, bis die Füllung ausreichend heiß ist. Dann fliegen sie los. Funktioniert dieser Trick auch mit der Kraft der Sonne?\n\n\n
SUMMARY:Der schwebende Wal
END:VEVENT
END:VCALENDAR
