BEGIN:VCALENDAR
X-WR-TIMEZONE:Europe/Berlin
X-WR-CALNAME:rbb-Kalender
VERSION:2.0
METHOD:PUBLISH
CALSCALE:GREGORIAN
PRODID:rbb-CMS DAY
BEGIN:VEVENT
CLASS:PUBLIC
URL:http://www.rbb-online.de/content/rbb/rbb/wissenszeit/faecher/sachunterricht/sendungen/schnell-abgeraeumt.html
DTEND:20140402T075000
DTSTART:20140402T075000
UID:/content/rbb/rbb/wissenszeit/faecher/sachunterricht/sendungen/schnell-abgeraeumt
DTSTAMP:20140405T030932
DESCRIPTION:Alles ist fein gerichtet, der Tisch ist gedeckt. Und jetzt ziehen wir mit einem Ruck die Tischdecke weg. Kein Überfall von Rowdies, sondern ein physikalisches Experiment.\n\n\n
SUMMARY:Schnell abgeräumt
END:VEVENT
END:VCALENDAR
