BEGIN:VCALENDAR
X-WR-TIMEZONE:Europe/Berlin
X-WR-CALNAME:rbb-Kalender
VERSION:2.0
METHOD:PUBLISH
CALSCALE:GREGORIAN
PRODID:rbb-CMS DAY
BEGIN:VEVENT
CLASS:PUBLIC
URL:http://www.rbb-online.de/content/rbb/rbb/wissenszeit/faecher/sozialkunde/sendungen/gefundenes_fressen.html
DTEND:20140327T073000
DTSTART:20140327T073000
UID:/content/rbb/rbb/wissenszeit/faecher/sozialkunde/sendungen/gefundenes_fressen
DTSTAMP:20140405T030729
DESCRIPTION:„Das Brot hier ist doch 1 A", meint Hanna und sie hat völlig Recht. Es sieht appetitlich aus und ist ordentlich in Plastikfolie eingeschweißt. Nichts scheint es von den anderen im Supermarktregal zu unterscheiden, nur dass die 21-Jährige es gerade aus dem Abfall gefischt hat. \n
SUMMARY:Gefundenes Fressen. Leben vom Abfall
END:VEVENT
END:VCALENDAR
