BEGIN:VCALENDAR
X-WR-TIMEZONE:Europe/Berlin
X-WR-CALNAME:rbb-Kalender
VERSION:2.0
METHOD:PUBLISH
CALSCALE:GREGORIAN
PRODID:rbb-CMS DAY
BEGIN:VEVENT
CLASS:PUBLIC
URL:http://www.rbb-online.de/content/rbb/rbb/wissenszeit/faecher/sozialkunde/sendungen/roman_im_irak_kaempft.html
DTEND:20140207T074500
DTSTART:20140207T074500
UID:/content/rbb/rbb/wissenszeit/faecher/sozialkunde/sendungen/roman_im_irak_kaempft
DTSTAMP:20140405T025716
DESCRIPTION:Der 14jährige Roman kämpft gegen Gewalt an Kindern. Vor sieben Jahren wurde sein Vater Opfer eines Selbstmordattentats des Terrorornetzwerkes al-Qaida. Romans Kindheit endete damals abrupt und er begann, sich viele Fragen zu stellen.\n
SUMMARY:Kinder kämpfen für eine bessere Welt.  Roman im Irak kämpft gegen Gewalt
END:VEVENT
END:VCALENDAR
