BEGIN:VCALENDAR
X-WR-TIMEZONE:Europe/Berlin
X-WR-CALNAME:rbb-Kalender
VERSION:2.0
METHOD:PUBLISH
CALSCALE:GREGORIAN
PRODID:rbb-CMS DAY
BEGIN:VEVENT
CLASS:PUBLIC
URL:http://www.rbb-online.de/content/rbb/rbb/wissenszeit/faecher/sozialkunde/sendungen/spielen-statt-schaften.html
DTEND:20140203T074500
DTSTART:20140203T074500
UID:/content/rbb/rbb/wissenszeit/faecher/sozialkunde/sendungen/spielen-statt-schaften
DTSTAMP:20140405T031407
DESCRIPTION:Kinder haben Rechte. Etwa, dass sie genug zu essen bekommen, in Frieden groß werden, dass sie nicht ausgebeutet oder misshandelt werden. Die meisten Staaten dieser Erde haben diese Rechte unterschrieben.\n\n\n\n\n
SUMMARY:Spielen statt Schuften. Kinder haben Rechte
END:VEVENT
END:VCALENDAR
