BEGIN:VCALENDAR
X-WR-TIMEZONE:Europe/Berlin
X-WR-CALNAME:rbb-Kalender
VERSION:2.0
METHOD:PUBLISH
CALSCALE:GREGORIAN
PRODID:rbb-CMS DAY
BEGIN:VEVENT
CLASS:PUBLIC
URL:http://www.rbb-online.de/content/rbb/rbb/wissenszeit/faecher/sozialkunde/sendungen/wenn-die-eltern-sich-trennen.html
DTEND:20140205T074500
DTSTART:20140205T074500
UID:/content/rbb/rbb/wissenszeit/faecher/sozialkunde/sendungen/wenn-die-eltern-sich-trennen
DTSTAMP:20140405T030013
DESCRIPTION:Mehr als ein Drittel der Kinder erleben, wie ihre Eltern sich trennen oder scheiden lassen. Welche Folgen kann das für das Wohlergehen der Kinder haben?\n\n\n
SUMMARY:Wenn die Eltern sich trennen
END:VEVENT
END:VCALENDAR
