BEGIN:VCALENDAR
X-WR-TIMEZONE:Europe/Berlin
X-WR-CALNAME:rbb-Kalender
VERSION:2.0
METHOD:PUBLISH
CALSCALE:GREGORIAN
PRODID:rbb-CMS DAY
BEGIN:VEVENT
CLASS:PUBLIC
URL:http://www.rbb-online.de/content/rbb/rbb/zibb/7plus/gigantomaten.html
DTEND:20140313T192500
DTSTART:20140313T183000
UID:/content/rbb/rbb/zibb/7plus/gigantomaten
DTSTAMP:20140405T230039
DESCRIPTION:Reporterin Janna fordert im Wettstreit um die größten Tomaten sogar ihre rbb-Kollegen heraus: Auch die zibb-Moderatoren Angela Fritzsch und Marco Seiffert bekommen ein Tütchen der Sorte Moneymaker. \n\n\n
SUMMARY:Wie Profis Tomaten züchten
END:VEVENT
END:VCALENDAR
