BEGIN:VCALENDAR
X-WR-TIMEZONE:Europe/Berlin
X-WR-CALNAME:rbb-Kalender
VERSION:2.0
METHOD:PUBLISH
CALSCALE:GREGORIAN
PRODID:rbb-CMS DAY
BEGIN:VEVENT
CLASS:PUBLIC
URL:http://www.rbb-online.de/content/rbb/rbb/zibb/7plus/tomate1.html
DTEND:20140311T192500
DTSTART:20140311T183000
UID:/content/rbb/rbb/zibb/7plus/tomate1
DTSTAMP:20140405T225601
DESCRIPTION:Janna Falkenstein hat sich am Dienstag selbst in die Kunst des Tomatenzüchtens einweisen lassen. Detlef aus Zeuthen hat viel Erfahrung mit den Nachtschattengewächsen gesammelt und erklärt, wann der richtige Zeitpunkt zur Aussaat ist und welche Anfängerfehler man vermeiden sollte.\n
SUMMARY:Auf der Jagd nach der Riesentomate
END:VEVENT
END:VCALENDAR
