BEGIN:VCALENDAR
X-WR-TIMEZONE:Europe/Berlin
X-WR-CALNAME:rbb-Kalender
VERSION:2.0
METHOD:PUBLISH
CALSCALE:GREGORIAN
PRODID:rbb-CMS DAY
BEGIN:VEVENT
CLASS:PUBLIC
URL:http://www.rbb-online.de/content/rbb/rbb/zibb/7plus/tomaten1.html
DTEND:20140317T192500
DTSTART:20140317T183000
UID:/content/rbb/rbb/zibb/7plus/tomaten1
DTSTAMP:20140405T225725
DESCRIPTION:Die Berliner Kleingartenkolonie "Grüne Aue" will gegen Janna im Wettstreit um die GIGANTOMATEN antreten. Auf der Jahres-Mitgliederversammlung werden an 130 eifrige Kleingärtner die Samentütchen verteilt. Jeder der Schöneberger Schrebergärtner hat seine ganz eigenen Tricks und Methoden.\n\n\n
SUMMARY:Schöneberger Tomaten 
END:VEVENT
END:VCALENDAR
