BEGIN:VCALENDAR
X-WR-TIMEZONE:Europe/Berlin
X-WR-CALNAME:rbb-Kalender
VERSION:2.0
METHOD:PUBLISH
CALSCALE:GREGORIAN
PRODID:rbb-CMS DAY
BEGIN:VEVENT
CLASS:PUBLIC
URL:http://www.rbb-online.de/content/rbb/rbb/zibb/96_stunden/archiv/96-stunden-14bis19-10-2013/96stunden-der-auftakt.html
DTEND:20131014T183000
DTSTART:20131014T183000
UID:/content/rbb/rbb/zibb/96_stunden/archiv/96-stunden-14bis19-10-2013/96stunden-der-auftakt
DTSTAMP:20140405T024232
DESCRIPTION:Ab heute geht's wieder los. Start für 96 Stunden. Diesmal brauchen wir Ihre Hilfe für einen Berliner Verein, der sich seit vielen Jahren für Kinder und Jugendliche einsetzt, die es schwerer als andere haben. Weil sie auf der Straße leben, Suchtprobleme hatten, aus zerrütteten Familien stammen.\n\n\n
SUMMARY:Montag - Der Auftakt 
END:VEVENT
END:VCALENDAR
