BEGIN:VCALENDAR
X-WR-TIMEZONE:Europe/Berlin
X-WR-CALNAME:rbb-Kalender
VERSION:2.0
METHOD:PUBLISH
CALSCALE:GREGORIAN
PRODID:rbb-CMS DAY
BEGIN:VEVENT
CLASS:PUBLIC
URL:http://www.rbb-online.de/content/rbb/rbb/zibb/96_stunden/archiv/96-stunden-vom-11-11-2013/96stunden-auftakt-beussel.html
DTEND:20131111T192500
DTSTART:20131111T183000
UID:/content/rbb/rbb/zibb/96_stunden/archiv/96-stunden-vom-11-11-2013/96stunden-auftakt-beussel
DTSTAMP:20140405T023400
DESCRIPTION:Ab heute geht's wieder los: Start für die neue 96 Stunden-Aktion. Diesmal brauchen wir Ihre Hilfe für die alte Reformationskirche in Moabit. Ein Jugendtheater und ein Chor bieten hier im Beusselkiez gelebte Kultur – und sie brauchen Unterstützung.\n
SUMMARY:Der Auftakt - Bühne frei für Kiez-Kultur
END:VEVENT
END:VCALENDAR
