BEGIN:VCALENDAR
X-WR-TIMEZONE:Europe/Berlin
X-WR-CALNAME:rbb-Kalender
VERSION:2.0
METHOD:PUBLISH
CALSCALE:GREGORIAN
PRODID:rbb-CMS DAY
BEGIN:VEVENT
CLASS:PUBLIC
URL:http://www.rbb-online.de/content/rbb/rbb/zibb/96_stunden/archiv/96-stunden-vom-11-11-2013/96stunden.html
DTEND:20131113T192500
DTSTART:20131113T183000
UID:/content/rbb/rbb/zibb/96_stunden/archiv/96-stunden-vom-11-11-2013/96stunden
DTSTAMP:20140405T023448
DESCRIPTION:Heute ist es kunterbunt auf der 96Stunden Baustelle. Aus der roten Deckenfarbe im Chorsaal soll ein himmlisches Gold werden. Theoretisch machbar - praktisch aber schwierig. Die goldene Farbe ist schon ein paar mal aufgetragen worden, doch immer wieder schimmert das alte Rot durch.\n
SUMMARY:Mittwoch - Goldiger Besuch
END:VEVENT
END:VCALENDAR
