BEGIN:VCALENDAR
X-WR-TIMEZONE:Europe/Berlin
X-WR-CALNAME:rbb-Kalender
VERSION:2.0
METHOD:PUBLISH
CALSCALE:GREGORIAN
PRODID:rbb-CMS DAY
BEGIN:VEVENT
CLASS:PUBLIC
URL:http://www.rbb-online.de/content/rbb/rbb/zibb/96_stunden/archiv/96-stunden-vom-11-11-2013/donnerstag.html
DTEND:20131114T192500
DTSTART:20131114T183000
UID:/content/rbb/rbb/zibb/96_stunden/archiv/96-stunden-vom-11-11-2013/donnerstag
DTSTAMP:20140405T023659
DESCRIPTION:Die Akkubohrer laufen heiß. Die Stimmung ist leicht gereizt. Die Luft ziemlich trüb. Alles voller Sägespäne. Bauschutt, Kabel, Farbeimer, Handschuhe und Werkzeuge verteilen sich auf dem Weg. Ganz klar und eindeutig: Wir sind auf der 96-Stunden-Baustelle im Endspurt.\n
SUMMARY:Donnerstag - Eine Bühne für den Kiez
END:VEVENT
END:VCALENDAR
