BEGIN:VCALENDAR
X-WR-TIMEZONE:Europe/Berlin
X-WR-CALNAME:rbb-Kalender
VERSION:2.0
METHOD:PUBLISH
CALSCALE:GREGORIAN
PRODID:rbb-CMS DAY
BEGIN:VEVENT
CLASS:PUBLIC
URL:http://www.rbb-online.de/content/rbb/rbb/zibb/96_stunden/archiv/96-stunden-vom-16-09-2013/96stunden-donnerstag.html
DTEND:20130919T192500
DTSTART:20130919T183000
UID:/content/rbb/rbb/zibb/96_stunden/archiv/96-stunden-vom-16-09-2013/96stunden-donnerstag
DTSTAMP:20140405T023823
DESCRIPTION:Ein ungewöhnlicher Transporter rollt auf die 96Stunden-Baustelle in Hennickendorf. Es ist ein auffällig bunt lackiertes Auto mit dem Schriftzug "Stichtag Tattoo". Zwei nette Damen steigen aus dem Wagen. Aber wer von den Johannitern will auf der Baustelle tätowiert werden?\n
SUMMARY:Ist heute schon Stichtag?
END:VEVENT
END:VCALENDAR
