BEGIN:VCALENDAR
X-WR-TIMEZONE:Europe/Berlin
X-WR-CALNAME:rbb-Kalender
VERSION:2.0
METHOD:PUBLISH
CALSCALE:GREGORIAN
PRODID:rbb-CMS DAY
BEGIN:VEVENT
CLASS:PUBLIC
URL:http://www.rbb-online.de/content/rbb/rbb/zibb/96_stunden/archiv/96-stunden-vom-16-09-2013/montag-der-auftakt.html
DTEND:20130916T183000
DTSTART:20130916T183000
UID:/content/rbb/rbb/zibb/96_stunden/archiv/96-stunden-vom-16-09-2013/montag-der-auftakt
DTSTAMP:20140405T023154
DESCRIPTION:Training ist alles – diese Regel gilt vor allem für Lebensretter. Für die Hunde der Rettungshundestaffel der Johanniter gibt es derzeit keinen richtigen Trainingsplatz. Am Montag war der Auftakt unserer neuen 96 Stunden-Aktion, bei der wir mit Ihrer Hilfe einen Trainingsplatz für die Hunde gestalten wollen.\n\n\n\n\n
SUMMARY:Montag - Der Auftakt
END:VEVENT
END:VCALENDAR
