BEGIN:VCALENDAR
X-WR-TIMEZONE:Europe/Berlin
X-WR-CALNAME:rbb-Kalender
VERSION:2.0
METHOD:PUBLISH
CALSCALE:GREGORIAN
PRODID:rbb-CMS DAY
BEGIN:VEVENT
CLASS:PUBLIC
URL:http://www.rbb-online.de/content/rbb/rbb/zibb/96_stunden/archiv/96_stunden_vom_150/besuch_vom_sheriff.html
DTEND:20130416T183000
DTSTART:20130416T183000
UID:/content/rbb/rbb/zibb/96_stunden/archiv/96_stunden_vom_150/besuch_vom_sheriff
DTSTAMP:20140405T023955
DESCRIPTION:Wir bekommen es mit der Angst zu tun, als ein Polizeifahrzeug Ford Crown Victoria vorgefahren kommt. Was haben wir fasch gemacht? \n\n\n
SUMMARY:Besuch vom Sheriff?
END:VEVENT
END:VCALENDAR
