BEGIN:VCALENDAR
X-WR-TIMEZONE:Europe/Berlin
X-WR-CALNAME:rbb-Kalender
VERSION:2.0
METHOD:PUBLISH
CALSCALE:GREGORIAN
PRODID:rbb-CMS DAY
BEGIN:VEVENT
CLASS:PUBLIC
URL:http://www.rbb-online.de/content/rbb/rbb/zibb/96_stunden/archiv/96_stunden_vom_27/die_aktion_beginnt.html
DTEND:20130527T183000
DTSTART:20130527T183000
UID:/content/rbb/rbb/zibb/96_stunden/archiv/96_stunden_vom_27/die_aktion_beginnt
DTSTAMP:20140405T023905
DESCRIPTION:Auftakt zur nächsten 96-Stunden-Aktion bei zibb: Das Naturbad am Falkenberger Kiebitzsee ist dringend sanierungsbedürftig. \n
SUMMARY:Die Aktion beginnt
END:VEVENT
END:VCALENDAR
