BEGIN:VCALENDAR
X-WR-TIMEZONE:Europe/Berlin
X-WR-CALNAME:rbb-Kalender
VERSION:2.0
METHOD:PUBLISH
CALSCALE:GREGORIAN
PRODID:rbb-CMS DAY
BEGIN:VEVENT
CLASS:PUBLIC
URL:http://www.rbb-online.de/content/rbb/rbb/zibb/96_stunden/themen/die_liste_der_helfer.html
DTEND:20130916T183000
DTSTART:20130916T183000
UID:/content/rbb/rbb/zibb/96_stunden/themen/die_liste_der_helfer
DTSTAMP:20140409T014214
DESCRIPTION:Helfer Dienstag\n\n\n\n\n\nDas Architekturbüro Wanta hat sämtliche vorbereitenden Planungen übernommen und koordiniert 96Stunden lang mit seinen Bauleitern die Aktion vor Ort.\n\n\n\nBaustoffhändler Andreas Szonn hat sich eine ganz besondere Idee ausgedacht: wie sonst für Hochzeiten üblich, gibt es bei ihm einen Tisch mit Dingen, die spendenfreudige Fernsehzuschauer und Radiohörer an Ort und Stelle erwerben können – ganz individuell. Und je nachdem, was der Geldbeute hergibt, kann es hier um zwei Dosen Fensterlack gehen oder auch um etliche Quadratmeter Gipskartonplatten. Und bei jedem Artikel, der gekauft wird, legt Baustoffhändler Szonn noch mal 20% der Ware gratis obendrauf.\n\n\n\n\n\nFür jedes Bedürfnis ist gesorgt. Die Firma Zeppelin stellt für die ganze Woche Toiletten mit Duschen zur Verfügung\n\n\n\nDie Elektroplanung wird vom Ingenieurbüro Werner, Sauer & Co GmbH übernommen. Blitzschnell – mit Elektro-BLITZ.\n\n\n\nTischlerei Bosse hat einen großzügigen Rabatt für die Türen gegeben und setzt diese fachmännisch ein.\n\n\n\nDas leibliche Wohl kommt auch nicht zu kurz: Die Hotels Radisson Blue, City, Ahorn und Waldhotel sowie der Sozialverband Deutschland und der Wilmersdorfer Hof bringen Frühstück, Mittag und Abendbrot. Bauer Fruchtsäfte, Mineralquellen Bad Liebenwerda und Liefer-Bar stellen für die ganze Woche Getränke zur Verfügung.\n\n\n\nEndlich wieder Boden unter den Füßen: die Firma FFD Verlegt den Fußboden und sponsert Trockenbauplatten.\n\n\n\nDie Johanniter passen vor Ort auf, dass sich keiner verletzt und stehen für den Notfall bereit.\n\n\n\nDen Trockenbau im Sanitärbereich erledigt die Firma IK-Bau.\n\n\n\nDamit der Baustaub nicht in jede Ecke kriecht, spendiert die Firma Plaschna & Co Folien.\n\n\n\nDie Firma UKA spendet nicht nur Geld. Sie hilft vor Ort und vermittelt wichtige Kontakte, die auf der 96Stunden Baustelle gebraucht werden.\n\n\n\nDie Stürze für die Decken stellen nun kein Problem mehr dar, weil die Firma Schaefer Schulz GmbH sich darum kümmert.\n\n\n\nIm Sanitärbereich sind viele Arbeiten zu erledigen. Die Firma Galle Service GmbH &Co. KG nimmt das in die Hand.\n\n\n\nDie Profis von der Akustik-und Design GbR machen die Nacht zum Tag. Sie arbeiten rund um die Uhr, um den Trockenbau zu schaffen.\n\n\n\nEinen hohen Rabatt hat die Firma Raab Karcher gegeben – für Baumaterialien, die dringend benötigt werden.\n\n\n\nDie Firma Siniat sponsert jede Menge Trockenbauplatten.\n\n\n\nDie Anmietung von Geräten ermöglicht die Firma Vattenfall. Auch Bauhelme stellt der Energieversorger zur Verfügung, vor allem aber richtig tolle Auszubildende, die die ganze Woche mit anpacken.\n\n\n\nDie Gebäudewirtschaft Cottbus spendet 24 gebrauchte Heizkörper, die in Zusammenarbeit der Nahwärmeversorgungsgesellschaft , Schwager´s Geräteservice und der Planungsfirma SHK-System Plan aufgearbeitet wurden, sodass auch in der kalten Jahreszeit Seminare durchgeführt werden können.\n\n\n\nDer Fachgroßhandel für Sanitär Nerlich und Lesser spendet alles, was künftig in Sachen Bad nötig ist – vom Waschbecken über WC bis hin zu den Mischbatterien.\n\n\n\nDie Sparkasse Spree-Neiße überreicht einen Scheck, mit dem Geld kann Baumaterial gekauft werden.\n \n
SUMMARY:Die Liste der Helfer
END:VEVENT
END:VCALENDAR
