BEGIN:VCALENDAR
X-WR-TIMEZONE:Europe/Berlin
X-WR-CALNAME:rbb-Kalender
VERSION:2.0
METHOD:PUBLISH
CALSCALE:GREGORIAN
PRODID:rbb-CMS DAY
BEGIN:VEVENT
LOCATION: 
CLASS:PUBLIC
URL:http://www.rbb-online.de/content/rbb/rbb/zibb/archiv/20130731_1830.html
DTEND:20130731T192500
DTSTART:20130731T183000
UID:/content/rbb/rbb/zibb/archiv/20130731_1830
DTSTAMP:20140407T172816
DESCRIPTION:Taxibetrug +++ Trendige Brillen +++ Ein Kunstherz für Pascal +++ Service: Lastenräder +++ Zu Hause in Berlin: Chinesische Ärztin Jia-Fen Zhu +++ zu Gast: Lisa Fitz\n\n\n
SUMMARY:zibb 31.07.2013 18:30
END:VEVENT
END:VCALENDAR
