BEGIN:VCALENDAR
X-WR-TIMEZONE:Europe/Berlin
X-WR-CALNAME:rbb-Kalender
VERSION:2.0
METHOD:PUBLISH
CALSCALE:GREGORIAN
PRODID:rbb-CMS DAY
BEGIN:VEVENT
CLASS:PUBLIC
URL:http://www.rbb-online.de/content/rbb/rbb/zibb/archiv/20130731_1830/Kunstherz-fuer-pascal.html
DTEND:20130731T192500
DTSTART:20130731T183000
UID:/content/rbb/rbb/zibb/archiv/20130731_1830/Kunstherz-fuer-pascal
DTSTAMP:20140407T172738
DESCRIPTION:Schritt für Schritt kämpft sich Pascal in sein neues Leben. Der Fünfjährige kann sich endlich wieder frei bewegen. Pascal kam mit nur einer Herzkammer zur Welt. Zweieinhalb Jahre war er mit einem Herzunterstützungssystem verbunden, ein so genanntes Kunstherz. 841 Tage Leben, angeschlossen an Pumpen und Schläuche - ein trauriger Rekord.\n\n\n
SUMMARY:Kunstherz für Pascal
END:VEVENT
END:VCALENDAR
