BEGIN:VCALENDAR
X-WR-TIMEZONE:Europe/Berlin
X-WR-CALNAME:rbb-Kalender
VERSION:2.0
METHOD:PUBLISH
CALSCALE:GREGORIAN
PRODID:rbb-CMS DAY
BEGIN:VEVENT
CLASS:PUBLIC
URL:http://www.rbb-online.de/content/rbb/rbb/zibb/archiv/20130731_1830/taxibetrug.html
DTEND:20130731T192500
DTSTART:20130731T183000
UID:/content/rbb/rbb/zibb/archiv/20130731_1830/taxibetrug
DTSTAMP:20140407T172832
DESCRIPTION:Am Berliner Flughafen Tegel werden Kunden manchmal von Taxifahrern abgezockt. Sie bieten Fremden angeblich günstige Festpreise an. Doch diese übersteigen dann oft sogar das Zehnfache des normalen Taxameterpreises. (Ein Beitrag von Felix Krüger)\n
SUMMARY:Abzocke bei der Taxifahrt
END:VEVENT
END:VCALENDAR
