BEGIN:VCALENDAR
X-WR-TIMEZONE:Europe/Berlin
X-WR-CALNAME:rbb-Kalender
VERSION:2.0
METHOD:PUBLISH
CALSCALE:GREGORIAN
PRODID:rbb-CMS DAY
BEGIN:VEVENT
CLASS:PUBLIC
URL:http://www.rbb-online.de/content/rbb/rbb/zibb/archiv/20130801_1830/lehniner-sommermusiken.html
DTEND:20130801T192500
DTSTART:20130801T183000
UID:/content/rbb/rbb/zibb/archiv/20130801_1830/lehniner-sommermusiken
DTSTAMP:20140407T170930
DESCRIPTION:"Viva Italia!" heisst es heute in der Klosterkirche des ältesten Zisterzienserklosters der Mark Brandenburg - in Lehnin. \n\n\n
SUMMARY:Lehniner Sommermusiken
END:VEVENT
END:VCALENDAR
