BEGIN:VCALENDAR
X-WR-TIMEZONE:Europe/Berlin
X-WR-CALNAME:rbb-Kalender
VERSION:2.0
METHOD:PUBLISH
CALSCALE:GREGORIAN
PRODID:rbb-CMS DAY
BEGIN:VEVENT
CLASS:PUBLIC
URL:http://www.rbb-online.de/content/rbb/rbb/zibb/archiv/20130801_1830/us-police-car.html
DTEND:20130801T192500
DTSTART:20130801T183000
UID:/content/rbb/rbb/zibb/archiv/20130801_1830/us-police-car
DTSTAMP:20140407T170953
DESCRIPTION:Wer würde nicht gerne mal in einem original US Police Car sitzen? In Berlin gibt es Julius Schroeder und er hat eine Firma, die solche und andere Auto-Klassiker verkauft und vermietet.\n\n\n
SUMMARY:US Police Cars im Sommergarten
END:VEVENT
END:VCALENDAR
