BEGIN:VCALENDAR
X-WR-TIMEZONE:Europe/Berlin
X-WR-CALNAME:rbb-Kalender
VERSION:2.0
METHOD:PUBLISH
CALSCALE:GREGORIAN
PRODID:rbb-CMS DAY
BEGIN:VEVENT
CLASS:PUBLIC
URL:http://www.rbb-online.de/content/rbb/rbb/zibb/archiv/20130805_1830/die-ersten-wahlplakate.html
DTEND:20130805T192500
DTSTART:20130805T183000
UID:/content/rbb/rbb/zibb/archiv/20130805_1830/die-ersten-wahlplakate
DTSTAMP:20140407T171230
DESCRIPTION:Mehr als 100.000 Wahlplakate werden in den kommenden Tagen in ganz Berlin aufgehängt. Die ersten kamen am Samstag von den Grünen.\n\n\n
SUMMARY:Die ersten Wahlplakate hängen in der Stadt
END:VEVENT
END:VCALENDAR
