BEGIN:VCALENDAR
X-WR-TIMEZONE:Europe/Berlin
X-WR-CALNAME:rbb-Kalender
VERSION:2.0
METHOD:PUBLISH
CALSCALE:GREGORIAN
PRODID:rbb-CMS DAY
BEGIN:VEVENT
CLASS:PUBLIC
URL:http://www.rbb-online.de/content/rbb/rbb/zibb/archiv/20130805_1830/islandpferde-wm.html
DTEND:20130805T192500
DTSTART:20130805T183000
UID:/content/rbb/rbb/zibb/archiv/20130805_1830/islandpferde-wm
DTSTAMP:20140407T171248
DESCRIPTION:Wir berichten noch einmal von der Islandpferde-WM.\n\n\n
SUMMARY:Islandpferde-WM
END:VEVENT
END:VCALENDAR
