BEGIN:VCALENDAR
X-WR-TIMEZONE:Europe/Berlin
X-WR-CALNAME:rbb-Kalender
VERSION:2.0
METHOD:PUBLISH
CALSCALE:GREGORIAN
PRODID:rbb-CMS DAY
BEGIN:VEVENT
CLASS:PUBLIC
URL:http://www.rbb-online.de/content/rbb/rbb/zibb/archiv/20130805_1830/schulbeginn-in-berlin-brandenburg.html
DTEND:20130805T192500
DTSTART:20130805T183000
UID:/content/rbb/rbb/zibb/archiv/20130805_1830/schulbeginn-in-berlin-brandenburg
DTSTAMP:20140407T171345
DESCRIPTION:Schulbeginn in Berlin und Brandenburg. Nach fast sechs Wochen Ferien, gehen die Schüler mit gemischten Gefühlen wieder zurück auf die Schulbank.\n\n\n
SUMMARY:Schulbeginn in Berlin und Brandenburg
END:VEVENT
END:VCALENDAR
