BEGIN:VCALENDAR
X-WR-TIMEZONE:Europe/Berlin
X-WR-CALNAME:rbb-Kalender
VERSION:2.0
METHOD:PUBLISH
CALSCALE:GREGORIAN
PRODID:rbb-CMS DAY
BEGIN:VEVENT
CLASS:PUBLIC
URL:http://www.rbb-online.de/content/rbb/rbb/zibb/archiv/20130806_1830/Lesballettrockaderodemontecarlo.html
DTEND:20130806T192500
DTSTART:20130806T183000
UID:/content/rbb/rbb/zibb/archiv/20130806_1830/Lesballettrockaderodemontecarlo
DTSTAMP:20140407T165352
DESCRIPTION:Das New Yorker Ballett-Ensemble gastiert zurzeit im Berliner Admiralspalast. Die Trockaderos zeigen Klassiker wie "Schwanensee" ebenso vollendet wie amüsant. Das klassisch ausgebildete Ballett-Ensemble besteht nur aus Männern, die schon allein durch ihre Statur, aber auch durch ihre kleinen Machtkämpfe auf der Bühne jedes Stück zu einem großen Spaß werden lassen.\n\n\n\n\n
SUMMARY:"Les Ballets Trockadero de Monte Carlo" im Admiralspalast 
END:VEVENT
END:VCALENDAR
