BEGIN:VCALENDAR
X-WR-TIMEZONE:Europe/Berlin
X-WR-CALNAME:rbb-Kalender
VERSION:2.0
METHOD:PUBLISH
CALSCALE:GREGORIAN
PRODID:rbb-CMS DAY
BEGIN:VEVENT
CLASS:PUBLIC
URL:http://www.rbb-online.de/content/rbb/rbb/zibb/archiv/20130806_1830/xxltrabi.html
DTEND:20130806T192500
DTSTART:20130806T183000
UID:/content/rbb/rbb/zibb/archiv/20130806_1830/xxltrabi
DTSTAMP:20140407T165422
DESCRIPTION:Sebastian Schneier ist ein Trabi-Freund und der Meinung, diese Automarke verdiene auch eine Luxusvariante. Nach durchfeierter Nacht mit Freunden kam dann die merkwürdige Idee: Wir bauen ein Trabi XXL. Sozusagen eine andere Variante der bekannten "Ami-Limos".\n\n\n
SUMMARY:Der XXL-Trabi 
END:VEVENT
END:VCALENDAR
