BEGIN:VCALENDAR
X-WR-TIMEZONE:Europe/Berlin
X-WR-CALNAME:rbb-Kalender
VERSION:2.0
METHOD:PUBLISH
CALSCALE:GREGORIAN
PRODID:rbb-CMS DAY
BEGIN:VEVENT
CLASS:PUBLIC
URL:http://www.rbb-online.de/content/rbb/rbb/zibb/archiv/20130807_1830/auf-der-suche-nach-dem-regenwasser.html
DTEND:20130807T192500
DTSTART:20130807T183000
UID:/content/rbb/rbb/zibb/archiv/20130807_1830/auf-der-suche-nach-dem-regenwasser
DTSTAMP:20140407T165836
DESCRIPTION:Bis zu 40 Liter Regen pro Quadratmeter stürzten vergangene Nacht auf die Erde. Überschwemmungen, riesige Pfützen, überflutete Keller.\n\n\n
SUMMARY:Auf der Suche nach dem Regenwasser
END:VEVENT
END:VCALENDAR
