BEGIN:VCALENDAR
X-WR-TIMEZONE:Europe/Berlin
X-WR-CALNAME:rbb-Kalender
VERSION:2.0
METHOD:PUBLISH
CALSCALE:GREGORIAN
PRODID:rbb-CMS DAY
BEGIN:VEVENT
CLASS:PUBLIC
URL:http://www.rbb-online.de/content/rbb/rbb/zibb/archiv/20130807_1830/tierpflege-auf-zeit.html
DTEND:20130807T192500
DTSTART:20130807T183000
UID:/content/rbb/rbb/zibb/archiv/20130807_1830/tierpflege-auf-zeit
DTSTAMP:20140407T165914
DESCRIPTION:Das Tierheim Berlin sucht dringend ehrenamtliche Pflegestellen für seine Schützlinge.\n\n\n
SUMMARY:Tierpflege auf Zeit
END:VEVENT
END:VCALENDAR
