BEGIN:VCALENDAR
X-WR-TIMEZONE:Europe/Berlin
X-WR-CALNAME:rbb-Kalender
VERSION:2.0
METHOD:PUBLISH
CALSCALE:GREGORIAN
PRODID:rbb-CMS DAY
BEGIN:VEVENT
CLASS:PUBLIC
URL:http://www.rbb-online.de/content/rbb/rbb/zibb/archiv/20130807_1830/uckerkaas-handgemacht-in-brandenburg.html
DTEND:20130807T192500
DTSTART:20130807T183000
UID:/content/rbb/rbb/zibb/archiv/20130807_1830/uckerkaas-handgemacht-in-brandenburg
DTSTAMP:20140407T165849
DESCRIPTION:Von der Milch zum Käse - wie das genau passiert, erfahren wir bei Uckerkaas.\n
SUMMARY:Uckerkaas - handgemacht in Brandenburg
END:VEVENT
END:VCALENDAR
